BEGIN:VCALENDAR
VERSION:2.0
PRODID:-//gj33za.sites.ecatholic.com//eCatholic//EN
X-WR-TIMEZONE:LocalTZ
BEGIN:VTIMEZONE
TZID:LocalTZ
X-LIC-LOCATION:LocalTZ
BEGIN:DAYLIGHT
TZOFFSETFROM:-0600
TZOFFSETTO:-0500
TZNAME:LocalTZ
DTSTART:19700308T020000
RRULE:FREQ=YEARLY;BYMONTH=3;BYDAY=2SU
END:DAYLIGHT
BEGIN:STANDARD
TZOFFSETFROM:-0500
TZOFFSETTO:-0600
TZNAME:LocalTZ
DTSTART:19701101T020000
RRULE:FREQ=YEARLY;BYMONTH=11;BYDAY=1SU
END:STANDARD
END:VTIMEZONE
BEGIN:VEVENT
UID:1403912@gj33za.sites.ecatholic.com
DTSTAMP:20260421T212230Z
DTSTART:20260427T120000
DTEND:20260427T130000
RRULE:FREQ=WEEKLY;BYDAY=MO
SUMMARY:Afternoon Bible Study
DESCRIPTION:Bring your lunch and bible for the afternoon adult bible study
 .
END:VEVENT
BEGIN:VEVENT
UID:1403909@gj33za.sites.ecatholic.com
DTSTAMP:20260421T212230Z
DTSTART:20260422T190000
DTEND:20260422T210000
RRULE:FREQ=WEEKLY;BYDAY=WE
SUMMARY:Knights of Columbus
DESCRIPTION:The Knights weekly business meeting.
END:VEVENT
BEGIN:VEVENT
UID:1403910@gj33za.sites.ecatholic.com
DTSTAMP:20260421T212230Z
DTSTART:20260423T183000
DTEND:20260423T203000
RRULE:FREQ=WEEKLY;BYDAY=TH
SUMMARY:Youth Ministry Night
DESCRIPTION:High School youth gather for weekly fellowship and formation.
END:VEVENT
BEGIN:VEVENT
UID:1403911@gj33za.sites.ecatholic.com
DTSTAMP:20260421T212230Z
DTSTART:20260426T090000
DTEND:20260426T120000
RRULE:FREQ=WEEKLY;BYDAY=SU
EXDATE:20231008T090000
SUMMARY:Donuts & Coffee
DESCRIPTION:Join other families for refreshments following each Mass.
END:VEVENT
BEGIN:VEVENT
UID:1541045@gj33za.sites.ecatholic.com
DTSTAMP:20260421T212230Z
DTSTART:20260517T080000
DTEND:20260517T130000
RRULE:FREQ=MONTHLY;BYDAY=SU;BYSETPOS=3
SUMMARY:Parish Food Drive
DESCRIPTION:Bring your donated non-perishable food and hygiene items!
END:VEVENT
BEGIN:VEVENT
UID:2725979@gj33za.sites.ecatholic.com
DTSTAMP:20260421T212230Z
DTSTART:20260504T070000
DTEND:20260504T080000
RRULE:FREQ=MONTHLY;BYDAY=MO;BYSETPOS=1
SUMMARY:Catholic Business Owners and Entrepreneurs
DESCRIPTION:Kick off the week with prayer\, fellowship\, and coffee and pa
 stries with this unique networking opportunity. We meet monthly!
END:VEVENT
BEGIN:VEVENT
UID:2725973@gj33za.sites.ecatholic.com
DTSTAMP:20260421T212230Z
DTSTART:20260505T083000
DTEND:20260505T100000
RRULE:FREQ=MONTHLY;BYDAY=TU;BYSETPOS=1
SUMMARY:Mom's Group Meeting
DESCRIPTION:All mothers are welcome! We meet in the parish hall\, adjacent
  to the Play Room\, so you can keep an eye on your kids enjoying free chil
 dcare. Come and find support from other moms!
END:VEVENT
END:VCALENDAR
